BEGIN:VCALENDAR
VERSION:2.0
PRODID:-//CareerGuard - ECPv6.15.11//NONSGML v1.0//EN
CALSCALE:GREGORIAN
METHOD:PUBLISH
X-ORIGINAL-URL:https://thecareerguard.com
X-WR-CALDESC:Events for CareerGuard
REFRESH-INTERVAL;VALUE=DURATION:PT1H
X-Robots-Tag:noindex
X-PUBLISHED-TTL:PT1H
BEGIN:VTIMEZONE
TZID:Europe/London
BEGIN:DAYLIGHT
TZOFFSETFROM:+0000
TZOFFSETTO:+0100
TZNAME:BST
DTSTART:20240331T010000
END:DAYLIGHT
BEGIN:STANDARD
TZOFFSETFROM:+0100
TZOFFSETTO:+0000
TZNAME:GMT
DTSTART:20241027T010000
END:STANDARD
BEGIN:DAYLIGHT
TZOFFSETFROM:+0000
TZOFFSETTO:+0100
TZNAME:BST
DTSTART:20250330T010000
END:DAYLIGHT
BEGIN:STANDARD
TZOFFSETFROM:+0100
TZOFFSETTO:+0000
TZNAME:GMT
DTSTART:20251026T010000
END:STANDARD
BEGIN:DAYLIGHT
TZOFFSETFROM:+0000
TZOFFSETTO:+0100
TZNAME:BST
DTSTART:20260329T010000
END:DAYLIGHT
BEGIN:STANDARD
TZOFFSETFROM:+0100
TZOFFSETTO:+0000
TZNAME:GMT
DTSTART:20261025T010000
END:STANDARD
END:VTIMEZONE
BEGIN:VEVENT
DTSTART;TZID=Europe/London:20250918T180000
DTEND;TZID=Europe/London:20250918T191500
DTSTAMP:20260422T152955
CREATED:20250802T113410Z
LAST-MODIFIED:20250803T115514Z
UID:33348-1758218400-1758222900@thecareerguard.com
SUMMARY:From Application to Offer: Stand Out & Succeed in a Tough Job Market
DESCRIPTION:🎓 From Application to Offer: Stand Out & Succeed in a Tough Job Market\nJoin us for an exclusive live webinar designed to help you stand out in today’s competitive job market. Whether you’re applying for your first role or making a career pivot\, this session will give you insider tips on how to craft a winning application and confidently navigate interviews. \n📅 Date: Thursday\, September 18th\, 2025🕕 Time: 6:00 PM – 7:15 PM (BST)📍 Location: Online (Zoom – link provided upon registration)💸 Cost: Free \n🚀 What You’ll Learn:\n\nHow to tailor your CV and cover letter for maximum impact\nThe biggest mistakes candidates make—and how to avoid them\nInterview strategies to boost confidence and credibility\nWhat recruiters really look for behind the scenes\n\n🎙️ Featuring:\nSamantha De AlbaFounder of SDA Career Coaching | Talent Acquisition at SchrodersWith years of experience recruiting top talent at leading firms\, Samantha brings an insider perspective to help candidates break through the noise. \nYemi OmatsuliSenior Project Manager | CareerGuard AmbassadorYemi’s career journey and mentorship work have empowered countless professionals to access roles they once thought were out of reach. \n\n💡 Spaces are limited – register now to secure your spot and start landing interviews with confidence.
URL:https://thecareerguard.com/event/from-application-to-offer-stand-out-succeed-in-a-tough-job-market/
LOCATION:Zoom
ATTACH;FMTTYPE=image/png:https://thecareerguard.com/wp-content/uploads/2025/08/Samantha-Alba-2-1.png
ORGANIZER;CN="The Careerguard":MAILTO:info@thecareerguard.com
END:VEVENT
BEGIN:VEVENT
DTSTART;TZID=Europe/London:20250701T090000
DTEND;TZID=Europe/London:20250701T170000
DTSTAMP:20260422T152955
CREATED:20250702T144952Z
LAST-MODIFIED:20250702T145720Z
UID:29751-1751360400-1751389200@thecareerguard.com
SUMMARY:A Day in the Life in Media\, Film & Production
DESCRIPTION:A Day in the Life: Media\, Film & Production 🎬Ever wondered what it’s really like to work behind the scenes in media\, film\, or production? Join us for an exclusive behind-the-scenes experience designed to give you a real taste of the industry. \nSpend the day with professionals\, in a film and recording studio explore career paths\, and gain insights into roles you never knew existed. From content creation to directing and editing — get ready for an inspiring\, hands-on day. \n🗓 Date: 1st July 📍 Location: Central London/Bank area👥 Spaces: Only 10 spots available📣 Age Range: 18–25 \nRSVP by 15th June.Selected attendees will receive a confirmation email.
URL:https://thecareerguard.com/event/a-day-in-the-life-in-media-film-production/
ATTACH;FMTTYPE=image/png:https://thecareerguard.com/wp-content/uploads/2025/07/Yellow-Purple-Illustrated-Entrepreneur-Podcast-Cover-scaled.png
END:VEVENT
BEGIN:VEVENT
DTSTART;TZID=Europe/London:20250416T093000
DTEND;TZID=Europe/London:20250416T153000
DTSTAMP:20260422T152955
CREATED:20250218T191912Z
LAST-MODIFIED:20250702T144559Z
UID:9897-1744795800-1744817400@thecareerguard.com
SUMMARY:Careers Insight Day at The Financial Times
DESCRIPTION:Exclusive Insight Day at the Financial Times – Hosted by The Careerguard! 🚀 \nAre you a student aged 15+ looking to break into the world of media\, journalism\, and business? This is your chance to step inside one of the most prestigious global news organizations! \n📅 Date: April 16\, 2025 \n⏰ Time: 09:30 AM – 3:30 PM \n📍 Location: Bracken House\, 1 Friday Street\, London\, England\, EC4M 9BT \n🎯 Who’s it for? Students and young professionals eager to explore careers at the Financial Times \nJoin The Careerguard for an exclusive Insight Day at the Financial Times\, where you’ll: \n✅ Gain first-hand exposure to career opportunities across journalism\, marketing\, tech\, data\, finance\, and more. \n✅ Meet and network with industry professionals who are shaping global news and business insights. \n✅ Take part in interactive sessions designed to boost your career knowledge and confidence. \n✅ Enjoy lunch and refreshments provided throughout the day. \n✅ Discover how to stand out when applying for roles and internships at FT and beyond. \nThis is a rare opportunity to connect with one of the most influential media companies in the world. If you’re ambitious\, curious\, and ready to take your first step into a dynamic career\, this event is for you! \n🔗 Limited spaces available – Apply now to secure your spot! \nDress Code: Business Casual  \n  \n  
URL:https://thecareerguard.com/event/careers-insight-day-at-the-financial-times/
LOCATION:The Financial Times\, Bracken House\, 1 Friday Street\, London\, England\, EC4M 9BT.\, London\, London\, EC4M 9Bt\, United Kingdom
ATTACH;FMTTYPE=image/jpeg:https://thecareerguard.com/wp-content/uploads/2025/02/DSC03245-scaled.jpg
ORGANIZER;CN="The Careerguard":MAILTO:info@thecareerguard.com
END:VEVENT
END:VCALENDAR